BEGIN:VCALENDAR
VERSION:2.0
CALSCALE:GREGORIAN
PRODID:iCalendar-Ruby
BEGIN:VEVENT
CATEGORIES:Central Iowa Works Reentry Simulation
DESCRIPTION:Coe College is excited to host the Central Iowa Works Reentry Simulation on Wednesday, April 6 from 4:00 – 6:00 PM at Coe College.  
DTEND:20220406T180000Z
DTSTAMP:20220406T160000Z
DTSTART:20220406T160000Z
GEO:41.987104;-91.658088
LOCATION:Coe Campus
SEQUENCE:0
UID:7940
SUMMARY:Central Iowa Works Reentry Simulation
END:VEVENT
END:VCALENDAR
