BEGIN:VCALENDAR
VERSION:2.0
CALSCALE:GREGORIAN
PRODID:iCalendar-Ruby
BEGIN:VEVENT
CATEGORIES:Dr. Tracy Thomas, Forensic Psychologist
DESCRIPTION:Join us for a discussion with Dr. Tracy Thomas who will talk about her path to becoming a forensic psychologist, as well as her experiences in the field.
DTEND:20200217T180000Z
DTSTAMP:20200217T163000Z
DTSTART:20200217T163000Z
GEO:41.986307;-91.656413
LOCATION:Stuart Hall
SEQUENCE:0
UID:5145
SUMMARY:Dr. Tracy Thomas, Forensic Psychologist
END:VEVENT
END:VCALENDAR
