BEGIN:VCALENDAR
VERSION:2.0
CALSCALE:GREGORIAN
PRODID:iCalendar-Ruby
BEGIN:VEVENT
CATEGORIES:Student Recital – Kathryn Kidd-Flores, flute
DESCRIPTION:The recital is free and open to the public. 
DTEND:20260502T160000Z
DTSTAMP:20260502T150000Z
DTSTART:20260502T150000Z
GEO:41.986467;-91.6579457
LOCATION:Daehler-Kitchin Auditorium
SEQUENCE:0
UID:26158
SUMMARY:Student Recital – Kathryn Kidd-Flores, flute
END:VEVENT
END:VCALENDAR
