BEGIN:VCALENDAR
VERSION:2.0
CALSCALE:GREGORIAN
PRODID:iCalendar-Ruby
BEGIN:VEVENT
CATEGORIES:Senior Thesis Exhibitions
DESCRIPTION:Celebrate the Art, Art History, and Film majors Senior Thesis Exhibition! 
April 10-17 and April 24-May 1

DTEND:20260418T180000Z
DTSTAMP:20260418T160000Z
DTSTART:20260418T160000Z
GEO:41.986165;-91.657126
LOCATION:Sinclair Auditorium
SEQUENCE:0
UID:26143
SUMMARY:Senior Thesis Exhibitions
END:VEVENT
END:VCALENDAR
