BEGIN:VCALENDAR
VERSION:2.0
CALSCALE:GREGORIAN
PRODID:iCalendar-Ruby
BEGIN:VEVENT
CATEGORIES:Spring Choral Showcase
DESCRIPTION:The Coe College choirs will perform. This concert is free and open to the public.
DTEND:20260502T200000Z
DTSTAMP:20260502T190000Z
DTSTART:20260502T190000Z
GEO:41.986165;-91.657126
LOCATION:Sinclair Auditorium
SEQUENCE:0
UID:26122
SUMMARY:Spring Choral Showcase
END:VEVENT
END:VCALENDAR
