BEGIN:VCALENDAR
VERSION:2.0
CALSCALE:GREGORIAN
PRODID:iCalendar-Ruby
BEGIN:VEVENT
CATEGORIES:Festival of Bands Gala Concert 
DESCRIPTION:Join us for the Festival of Bands Gala Concert featuring the Coe College Concert Band with special guest conductor and composer, Adrian Sims. This concert is free and open to the public.

DTEND:20260418T200000Z
DTSTAMP:20260418T190000Z
DTSTART:20260418T190000Z
GEO:41.986165;-91.657126
LOCATION:Sinclair Auditorium
SEQUENCE:0
UID:26118
SUMMARY:Festival of Bands Gala Concert 
END:VEVENT
END:VCALENDAR
