BEGIN:VCALENDAR
VERSION:2.0
CALSCALE:GREGORIAN
PRODID:iCalendar-Ruby
BEGIN:VEVENT
CATEGORIES:Festival of Bands: Junior and Senior Honor Bands Concert
DESCRIPTION:Join us for the Junior and Senior Honor Bands Concert as part of the Festival of Bands. Admission is $8 general, $5 for those under 18 and over 65, and free for Coe faculty, staff, and students.


DTEND:20260419T170000Z
DTSTAMP:20260419T160000Z
DTSTART:20260419T160000Z
GEO:41.986165;-91.657126
LOCATION:Sinclair Auditorium
SEQUENCE:0
UID:26117
SUMMARY:Festival of Bands: Junior and Senior Honor Bands Concert
END:VEVENT
END:VCALENDAR
