BEGIN:VCALENDAR
VERSION:2.0
CALSCALE:GREGORIAN
PRODID:iCalendar-Ruby
BEGIN:VEVENT
CATEGORIES:No Classes (Holiday) Juneteenth
DESCRIPTION:No Classes (Holiday) Juneteenth
DTEND:20260619T235900Z
DTSTAMP:20260619T080000Z
DTSTART:20260619T080000Z
GEO:41.987104;-91.658088
LOCATION:Coe Campus
SEQUENCE:0
UID:26106
SUMMARY:No Classes (Holiday) Juneteenth
END:VEVENT
END:VCALENDAR
