BEGIN:VCALENDAR
VERSION:2.0
CALSCALE:GREGORIAN
PRODID:iCalendar-Ruby
BEGIN:VEVENT
CATEGORIES:Ringing of the Victory Bell
DESCRIPTION:Ringing of the Victory Bell will take place on the Eby Fieldhouse Quad. 
DTEND:20260510T100000Z
DTSTAMP:20260510T090000Z
DTSTART:20260510T090000Z
GEO:41.988823;-91.659853
LOCATION:Eby Fieldhouse
SEQUENCE:0
UID:22276
SUMMARY:Ringing of the Victory Bell
END:VEVENT
END:VCALENDAR
