BEGIN:VCALENDAR
VERSION:2.0
CALSCALE:GREGORIAN
PRODID:iCalendar-Ruby
BEGIN:VEVENT
CATEGORIES:Senior Celebration
DESCRIPTION:Social event hosted by David and Heather Hayes kicks off the weekend and welcomes the senior class as new alumni.
DTEND:20260507T190000Z
DTSTAMP:20260507T180000Z
DTSTART:20260507T180000Z
GEO:;
LOCATION:Off-Campus
SEQUENCE:0
UID:22268
SUMMARY:Senior Celebration
END:VEVENT
END:VCALENDAR
