BEGIN:VCALENDAR
VERSION:2.0
CALSCALE:GREGORIAN
PRODID:iCalendar-Ruby
BEGIN:VEVENT
CATEGORIES:Last Day to Add or Drop a Full-Term or Block A Course Without a W
DESCRIPTION:Last Day to Add or Drop a Full-Term or Block A Course Without a W
DTEND:20260612T235900Z
DTSTAMP:20260612T080000Z
DTSTART:20260612T080000Z
GEO:41.987104;-91.658088
LOCATION:Coe Campus
SEQUENCE:0
UID:20327
SUMMARY:Last Day to Add or Drop a Full-Term or Block A Course Without a W
END:VEVENT
END:VCALENDAR
