BEGIN:VCALENDAR
VERSION:2.0
CALSCALE:GREGORIAN
PRODID:iCalendar-Ruby
BEGIN:VEVENT
CATEGORIES:Summer Full-Term & Block A Classes Begin
DESCRIPTION:Summer Full-Term & Block A Classes Begin
DTEND:20260608T235900Z
DTSTAMP:20260608T080000Z
DTSTART:20260608T080000Z
GEO:41.987104;-91.658088
LOCATION:Coe Campus
SEQUENCE:0
UID:20326
SUMMARY:Summer Full-Term & Block A Classes Begin
END:VEVENT
END:VCALENDAR
