BEGIN:VCALENDAR
VERSION:2.0
CALSCALE:GREGORIAN
PRODID:iCalendar-Ruby
BEGIN:VEVENT
CATEGORIES:Last Day of May Term Classes
DESCRIPTION:Last Day of May Term Classes
DTEND:20260605T235900Z
DTSTAMP:20260605T080000Z
DTSTART:20260605T080000Z
GEO:41.987104;-91.658088
LOCATION:Coe Campus
SEQUENCE:0
UID:20324
SUMMARY:Last Day of May Term Classes
END:VEVENT
END:VCALENDAR
