BEGIN:VCALENDAR
VERSION:2.0
CALSCALE:GREGORIAN
PRODID:iCalendar-Ruby
BEGIN:VEVENT
CATEGORIES:Last Day to Change Method of Grading &/Or Withdraw from May Term Courses
DESCRIPTION:Last Day to Change Method of Grading &/Or Withdraw from May Term Courses
DTEND:20260528T235900Z
DTSTAMP:20260528T080000Z
DTSTART:20260528T080000Z
GEO:41.987104;-91.658088
LOCATION:Coe Campus
SEQUENCE:0
UID:20323
SUMMARY:Last Day to Change Method of Grading &/Or Withdraw from May Term Courses
END:VEVENT
END:VCALENDAR
